BEGIN:VCALENDAR
VERSION:2.0
PRODID:-//Schachfreunde 1876 Göppingen e.V. - ECPv6.15.18//NONSGML v1.0//EN
CALSCALE:GREGORIAN
METHOD:PUBLISH
X-WR-CALNAME:Schachfreunde 1876 Göppingen e.V.
X-ORIGINAL-URL:https://sfgoeppingen.schachvereine.de/wp
X-WR-CALDESC:Veranstaltungen für Schachfreunde 1876 Göppingen e.V.
REFRESH-INTERVAL;VALUE=DURATION:PT1H
X-Robots-Tag:noindex
X-PUBLISHED-TTL:PT1H
BEGIN:VTIMEZONE
TZID:Europe/Berlin
BEGIN:DAYLIGHT
TZOFFSETFROM:+0100
TZOFFSETTO:+0200
TZNAME:CEST
DTSTART:20250330T010000
END:DAYLIGHT
BEGIN:STANDARD
TZOFFSETFROM:+0200
TZOFFSETTO:+0100
TZNAME:CET
DTSTART:20251026T010000
END:STANDARD
BEGIN:DAYLIGHT
TZOFFSETFROM:+0100
TZOFFSETTO:+0200
TZNAME:CEST
DTSTART:20260329T010000
END:DAYLIGHT
BEGIN:STANDARD
TZOFFSETFROM:+0200
TZOFFSETTO:+0100
TZNAME:CET
DTSTART:20261025T010000
END:STANDARD
BEGIN:DAYLIGHT
TZOFFSETFROM:+0100
TZOFFSETTO:+0200
TZNAME:CEST
DTSTART:20270328T010000
END:DAYLIGHT
BEGIN:STANDARD
TZOFFSETFROM:+0200
TZOFFSETTO:+0100
TZNAME:CET
DTSTART:20271031T010000
END:STANDARD
END:VTIMEZONE
BEGIN:VEVENT
DTSTART;TZID=Europe/Berlin:20260424T190000
DTEND;TZID=Europe/Berlin:20260424T220000
DTSTAMP:20260422T075456
CREATED:20250822T201118Z
LAST-MODIFIED:20250822T201124Z
UID:1003-1777057200-1777068000@sfgoeppingen.schachvereine.de
SUMMARY:Partieanalyse
DESCRIPTION:Dies ist ein vereinsinterner Abend\, an dem Spieler Partien mitbringen können zum Analysieren oder vorab diese Partien einreichen können\, damit sie von einem der Trainier analysiert werden. Diese Partien werden dann zusammen an diesem Abend angeschaut und besprochen.
URL:https://sfgoeppingen.schachvereine.de/wp/event/partieanalyse-7/
LOCATION:Haus der Jugend\, Dürerstraße 21\, Göppingen\, 73033\, Germany
CATEGORIES:Partieanalyse
END:VEVENT
BEGIN:VEVENT
DTSTART;VALUE=DATE:20260426
DTEND;VALUE=DATE:20260427
DTSTAMP:20260422T075456
CREATED:20250822T201238Z
LAST-MODIFIED:20250822T201238Z
UID:1009-1777161600-1777247999@sfgoeppingen.schachvereine.de
SUMMARY:C-Klasse 9.Runde
DESCRIPTION:
URL:https://sfgoeppingen.schachvereine.de/wp/event/c-klasse-9-runde/
CATEGORIES:Liga
END:VEVENT
BEGIN:VEVENT
DTSTART;TZID=Europe/Berlin:20260426T100000
DTEND;TZID=Europe/Berlin:20260426T150000
DTSTAMP:20260422T075456
CREATED:20250822T201204Z
LAST-MODIFIED:20250822T201204Z
UID:1006-1777197600-1777215600@sfgoeppingen.schachvereine.de
SUMMARY:Verbandsliga 9.Runde
DESCRIPTION:
URL:https://sfgoeppingen.schachvereine.de/wp/event/verbandsliga-9-runde/
LOCATION:Mengen
CATEGORIES:Liga
END:VEVENT
BEGIN:VEVENT
DTSTART;TZID=Europe/Berlin:20260509T140000
DTEND;TZID=Europe/Berlin:20260509T170000
DTSTAMP:20260422T075456
CREATED:20251006T191442Z
LAST-MODIFIED:20251006T191442Z
UID:1062-1778335200-1778346000@sfgoeppingen.schachvereine.de
SUMMARY:Jugendbundesliga Süd 7.Spieltag
DESCRIPTION:
URL:https://sfgoeppingen.schachvereine.de/wp/event/jugendbundesliga-sued-7-spieltag/
LOCATION:Baden-Baden
END:VEVENT
BEGIN:VEVENT
DTSTART;VALUE=DATE:20260517
DTEND;VALUE=DATE:20260518
DTSTAMP:20260422T075456
CREATED:20250822T202050Z
LAST-MODIFIED:20250822T202050Z
UID:1023-1778976000-1779062399@sfgoeppingen.schachvereine.de
SUMMARY:C-Klasse 10.Runde
DESCRIPTION:
URL:https://sfgoeppingen.schachvereine.de/wp/event/c-klasse-10-runde/
CATEGORIES:Liga
END:VEVENT
BEGIN:VEVENT
DTSTART;VALUE=DATE:20260526
DTEND;VALUE=DATE:20260601
DTSTAMP:20260422T075456
CREATED:20250822T202137Z
LAST-MODIFIED:20250822T202137Z
UID:1025-1779753600-1780271999@sfgoeppingen.schachvereine.de
SUMMARY:Schachbesuch Pessac
DESCRIPTION:
URL:https://sfgoeppingen.schachvereine.de/wp/event/schachbesuch-pessac/
LOCATION:Haus der Jugend\, Dürerstraße 21\, Göppingen\, 73033\, Germany
END:VEVENT
BEGIN:VEVENT
DTSTART;TZID=Europe/Berlin:20260529T190000
DTEND;TZID=Europe/Berlin:20260529T230000
DTSTAMP:20260422T075456
CREATED:20250822T201526Z
LAST-MODIFIED:20250822T201526Z
UID:1015-1780081200-1780095600@sfgoeppingen.schachvereine.de
SUMMARY:Blitzturnier
DESCRIPTION:
URL:https://sfgoeppingen.schachvereine.de/wp/event/blitzturnier-3/
LOCATION:Haus der Jugend\, Dürerstraße 21\, Göppingen\, 73033\, Germany
CATEGORIES:Blitz
END:VEVENT
BEGIN:VEVENT
DTSTART;TZID=Europe/Berlin:20260530T190000
DTEND;TZID=Europe/Berlin:20260530T230000
DTSTAMP:20260422T075456
CREATED:20250822T201625Z
LAST-MODIFIED:20250822T201625Z
UID:1017-1780167600-1780182000@sfgoeppingen.schachvereine.de
SUMMARY:Rapidturnier
DESCRIPTION:
URL:https://sfgoeppingen.schachvereine.de/wp/event/rapidturnier-3/
LOCATION:Haus der Jugend\, Dürerstraße 21\, Göppingen\, 73033\, Germany
CATEGORIES:Rapid
END:VEVENT
BEGIN:VEVENT
DTSTART;TZID=Europe/Berlin:20260724T190000
DTEND;TZID=Europe/Berlin:20260724T213000
DTSTAMP:20260422T075456
CREATED:20250822T201338Z
LAST-MODIFIED:20250822T201338Z
UID:1011-1784919600-1784928600@sfgoeppingen.schachvereine.de
SUMMARY:Jahreshauptversammlung
DESCRIPTION:
URL:https://sfgoeppingen.schachvereine.de/wp/event/jahreshauptversammlung-3/
LOCATION:Haus der Jugend\, Dürerstraße 21\, Göppingen\, 73033\, Germany
END:VEVENT
BEGIN:VEVENT
DTSTART;TZID=Europe/Berlin:20260801T150000
DTEND;TZID=Europe/Berlin:20260801T220000
DTSTAMP:20260422T075456
CREATED:20250822T201418Z
LAST-MODIFIED:20250822T201418Z
UID:1013-1785596400-1785621600@sfgoeppingen.schachvereine.de
SUMMARY:Sommerfest
DESCRIPTION:
URL:https://sfgoeppingen.schachvereine.de/wp/event/sommerfest/
END:VEVENT
END:VCALENDAR