BEGIN:VCALENDAR
VERSION:2.0
PRODID:-//Schachfreunde 1876 Göppingen e.V. - ECPv6.15.18//NONSGML v1.0//EN
CALSCALE:GREGORIAN
METHOD:PUBLISH
X-WR-CALNAME:Schachfreunde 1876 Göppingen e.V.
X-ORIGINAL-URL:https://sfgoeppingen.schachvereine.de/wp
X-WR-CALDESC:Veranstaltungen für Schachfreunde 1876 Göppingen e.V.
REFRESH-INTERVAL;VALUE=DURATION:PT1H
X-Robots-Tag:noindex
X-PUBLISHED-TTL:PT1H
BEGIN:VTIMEZONE
TZID:Europe/Berlin
BEGIN:DAYLIGHT
TZOFFSETFROM:+0100
TZOFFSETTO:+0200
TZNAME:CEST
DTSTART:20220327T010000
END:DAYLIGHT
BEGIN:STANDARD
TZOFFSETFROM:+0200
TZOFFSETTO:+0100
TZNAME:CET
DTSTART:20221030T010000
END:STANDARD
BEGIN:DAYLIGHT
TZOFFSETFROM:+0100
TZOFFSETTO:+0200
TZNAME:CEST
DTSTART:20230326T010000
END:DAYLIGHT
BEGIN:STANDARD
TZOFFSETFROM:+0200
TZOFFSETTO:+0100
TZNAME:CET
DTSTART:20231029T010000
END:STANDARD
BEGIN:DAYLIGHT
TZOFFSETFROM:+0100
TZOFFSETTO:+0200
TZNAME:CEST
DTSTART:20240331T010000
END:DAYLIGHT
BEGIN:STANDARD
TZOFFSETFROM:+0200
TZOFFSETTO:+0100
TZNAME:CET
DTSTART:20241027T010000
END:STANDARD
END:VTIMEZONE
BEGIN:VEVENT
DTSTART;TZID=Europe/Berlin:20230721T173000
DTEND;TZID=Europe/Berlin:20230721T183000
DTSTAMP:20260421T010725
CREATED:20230702T192421Z
LAST-MODIFIED:20230702T192421Z
UID:519-1689960600-1689964200@sfgoeppingen.schachvereine.de
SUMMARY:Jugendversammlung
DESCRIPTION:
URL:https://sfgoeppingen.schachvereine.de/wp/event/jugendversammlung/
END:VEVENT
BEGIN:VEVENT
DTSTART;TZID=Europe/Berlin:20230721T193000
DTEND;TZID=Europe/Berlin:20230721T210000
DTSTAMP:20260421T010725
CREATED:20230702T192701Z
LAST-MODIFIED:20230702T192701Z
UID:521-1689967800-1689973200@sfgoeppingen.schachvereine.de
SUMMARY:Jahreshauptversammlung
DESCRIPTION:
URL:https://sfgoeppingen.schachvereine.de/wp/event/jahreshauptversammlung/
END:VEVENT
END:VCALENDAR